BEGIN:VCALENDAR
VERSION:2.0
PRODID:-//hacksw/handcal//NONSGML v1.0//EN
BEGIN:VEVENT
DTSTART:20210123T103000
DTEND:20210123T120000
LOCATION:https://www.ephe.psl.eu/agenda/nuits-de-la-lecture
ORGANIZER;CN=Alba Cagnina:MAILTO:alba.cagnina@ephe.psl.eu
SUMMARY:Les nuits de la lecture
DESCRIPTION:L’École Pratique des Hautes Études participe à la 5e édition des Nuits de la lecture.\nDeux événements à suivre en ligne.\n23 janvier 2021 à 10h30 : "Liberté de conscience : Histoire d'une notion et...
URL:https://alumni.ephe.psl.eu/fr/event/les-nuits-de-la-lecture/2021/01/23/46
BEGIN:VALARM
TRIGGER:-P0DT1H0M0S
ACTION:DISPLAY
END:VALARM
END:VEVENT
END:VCALENDAR